BEGIN:VCALENDAR
VERSION:2.0
PRODID:-//Tukios.com/
BEGIN:VEVENT
UID:b00fb428-b9f8-4c06-927b-2bd1fa06dd05@www.grimesbandera.com
DTSTAMP:20260421T082811Z
DTSTART:20260420T190000Z
DTEND:20260420T200000Z
SUMMARY:Interment
DESCRIPTION:
URL:https://www.grimesbandera.com/obituaries/carol-wolf
LOCATION:McDade Cemetery 1876 US-290  McDade TX 78650
GEO:30.280403;-97.242816
END:VEVENT
END:VCALENDAR