BEGIN:VCALENDAR
VERSION:2.0
PRODID:-//Tukios.com/
BEGIN:VEVENT
UID:921d8c4e-9766-49a6-8fdd-b288e465a65c@www.grimesbandera.com
DTSTAMP:20260421T005746Z
DTSTART:20260422T220000Z
DTEND:20260423T000000Z
SUMMARY:Visitation
DESCRIPTION:
URL:https://www.grimesbandera.com/obituaries/joel-quintero
LOCATION:Bandera Funeral Chapel 1214 Mulberry St  Bandera TX 78003
GEO:29.7291952;-99.0752533
END:VEVENT
END:VCALENDAR