BEGIN:VCALENDAR
VERSION:2.0
PRODID:-//Tukios.com/
BEGIN:VEVENT
UID:a02ea1b5-c365-48dd-949d-1d7c09dc8211@www.grimesbandera.com
DTSTAMP:20260421T010054Z
DTSTART:20260423T190000Z
DTEND:20260423T200000Z
SUMMARY:Funeral Service
DESCRIPTION:
URL:https://www.grimesbandera.com/obituaries/joel-quintero
LOCATION:Bandera Funeral Chapel 1214 Mulberry St  Bandera TX 78003
GEO:29.7291952;-99.0752533
END:VEVENT
END:VCALENDAR